BEGIN:VCALENDAR
VERSION:2.0
PRODID:-//GMDA - ECPv6.15.20//NONSGML v1.0//EN
CALSCALE:GREGORIAN
METHOD:PUBLISH
X-ORIGINAL-URL:https://gmda.org
X-WR-CALDESC:Events for GMDA
REFRESH-INTERVAL;VALUE=DURATION:PT1H
X-Robots-Tag:noindex
X-PUBLISHED-TTL:PT1H
BEGIN:VTIMEZONE
TZID:America/Chicago
BEGIN:DAYLIGHT
TZOFFSETFROM:-0600
TZOFFSETTO:-0500
TZNAME:CDT
DTSTART:20220313T080000
END:DAYLIGHT
BEGIN:STANDARD
TZOFFSETFROM:-0500
TZOFFSETTO:-0600
TZNAME:CST
DTSTART:20221106T070000
END:STANDARD
BEGIN:DAYLIGHT
TZOFFSETFROM:-0600
TZOFFSETTO:-0500
TZNAME:CDT
DTSTART:20230312T080000
END:DAYLIGHT
BEGIN:STANDARD
TZOFFSETFROM:-0500
TZOFFSETTO:-0600
TZNAME:CST
DTSTART:20231105T070000
END:STANDARD
BEGIN:DAYLIGHT
TZOFFSETFROM:-0600
TZOFFSETTO:-0500
TZNAME:CDT
DTSTART:20240310T080000
END:DAYLIGHT
BEGIN:STANDARD
TZOFFSETFROM:-0500
TZOFFSETTO:-0600
TZNAME:CST
DTSTART:20241103T070000
END:STANDARD
END:VTIMEZONE
BEGIN:VEVENT
DTSTART;TZID=America/Chicago:20231102T200000
DTEND;TZID=America/Chicago:20231102T200000
DTSTAMP:20260422T032214
CREATED:20230630T025523Z
LAST-MODIFIED:20230630T025533Z
UID:9672-1698955200-1698955200@gmda.org
SUMMARY:WDA Annual CE
DESCRIPTION:
URL:https://gmda.org/event/wda-annual-ce/
LOCATION:Madison Marriott West\, 1313 John Q Hammons Dr.\, Middleton\, WI\, 53562\, United States
CATEGORIES:GMDA Sponsored Event
ORGANIZER;CN="Greater Milwaukee Dental Association":MAILTO:gmda@gmda.org
END:VEVENT
BEGIN:VEVENT
DTSTART;VALUE=DATE:20231103
DTEND;VALUE=DATE:20231105
DTSTAMP:20260422T032214
CREATED:20230630T025646Z
LAST-MODIFIED:20230630T025646Z
UID:9675-1698969600-1699142399@gmda.org
SUMMARY:House of Delegates
DESCRIPTION:
URL:https://gmda.org/event/house-of-delegates/
LOCATION:Madison Marriott West\, 1313 John Q Hammons Dr.\, Middleton\, WI\, 53562\, United States
CATEGORIES:GMDA Sponsored Event
ORGANIZER;CN="Greater Milwaukee Dental Association":MAILTO:gmda@gmda.org
END:VEVENT
BEGIN:VEVENT
DTSTART;TZID=America/Chicago:20231108T183000
DTEND;TZID=America/Chicago:20231108T183000
DTSTAMP:20260422T032214
CREATED:20230630T025728Z
LAST-MODIFIED:20230630T025811Z
UID:9677-1699468200-1699468200@gmda.org
SUMMARY:GMDA Board Meeting
DESCRIPTION:
URL:https://gmda.org/event/gmda-board-meeting-8/
LOCATION:TBD
CATEGORIES:GMDA Board Meeting,GMDA Sponsored Event
ORGANIZER;CN="Greater Milwaukee Dental Association":MAILTO:gmda@gmda.org
END:VEVENT
END:VCALENDAR