BEGIN:VCALENDAR
VERSION:2.0
PRODID:-//GMDA - ECPv6.15.20//NONSGML v1.0//EN
CALSCALE:GREGORIAN
METHOD:PUBLISH
X-WR-CALNAME:GMDA
X-ORIGINAL-URL:https://gmda.org
X-WR-CALDESC:Events for GMDA
REFRESH-INTERVAL;VALUE=DURATION:PT1H
X-Robots-Tag:noindex
X-PUBLISHED-TTL:PT1H
BEGIN:VTIMEZONE
TZID:America/Chicago
BEGIN:DAYLIGHT
TZOFFSETFROM:-0600
TZOFFSETTO:-0500
TZNAME:CDT
DTSTART:20230312T080000
END:DAYLIGHT
BEGIN:STANDARD
TZOFFSETFROM:-0500
TZOFFSETTO:-0600
TZNAME:CST
DTSTART:20231105T070000
END:STANDARD
BEGIN:DAYLIGHT
TZOFFSETFROM:-0600
TZOFFSETTO:-0500
TZNAME:CDT
DTSTART:20240310T080000
END:DAYLIGHT
BEGIN:STANDARD
TZOFFSETFROM:-0500
TZOFFSETTO:-0600
TZNAME:CST
DTSTART:20241103T070000
END:STANDARD
BEGIN:DAYLIGHT
TZOFFSETFROM:-0600
TZOFFSETTO:-0500
TZNAME:CDT
DTSTART:20250309T080000
END:DAYLIGHT
BEGIN:STANDARD
TZOFFSETFROM:-0500
TZOFFSETTO:-0600
TZNAME:CST
DTSTART:20251102T070000
END:STANDARD
END:VTIMEZONE
BEGIN:VEVENT
DTSTART;TZID=America/Chicago:20240307T170000
DTEND;TZID=America/Chicago:20240307T190000
DTSTAMP:20260421T212437
CREATED:20240222T040100Z
LAST-MODIFIED:20240222T040220Z
UID:9715-1709830800-1709838000@gmda.org
SUMMARY:Legislative Meet and Greet
DESCRIPTION:Legislative Meet and Greet
URL:https://gmda.org/event/legislative-meet-and-greet-2/
LOCATION:Pourman’s\, 1127 N Water Street\, Milwaukee\, WI\, 53202\, United States
CATEGORIES:GMDA Sponsored Event
ORGANIZER;CN="Greater Milwaukee Dental Association":MAILTO:gmda@gmda.org
END:VEVENT
BEGIN:VEVENT
DTSTART;TZID=America/Chicago:20240313T183000
DTEND;TZID=America/Chicago:20240313T183000
DTSTAMP:20260421T212437
CREATED:20230630T030301Z
LAST-MODIFIED:20230630T030301Z
UID:9688-1710354600-1710354600@gmda.org
SUMMARY:GMDA Board Meeting
DESCRIPTION:
URL:https://gmda.org/event/gmda-board-meeting-11/
CATEGORIES:GMDA Board Meeting,GMDA Sponsored Event
ORGANIZER;CN="Greater Milwaukee Dental Association":MAILTO:gmda@gmda.org
END:VEVENT
BEGIN:VEVENT
DTSTART;TZID=America/Chicago:20240328T180000
DTEND;TZID=America/Chicago:20240328T180000
DTSTAMP:20260421T212437
CREATED:20230630T030449Z
LAST-MODIFIED:20230630T030459Z
UID:9694-1711648800-1711648800@gmda.org
SUMMARY:GMDA Spring CE
DESCRIPTION:
URL:https://gmda.org/event/gmda-spring-ce/
CATEGORIES:GMDA Sponsored Event
ORGANIZER;CN="Greater Milwaukee Dental Association":MAILTO:gmda@gmda.org
END:VEVENT
BEGIN:VEVENT
DTSTART;TZID=America/Chicago:20240328T180000
DTEND;TZID=America/Chicago:20240328T210000
DTSTAMP:20260421T212437
CREATED:20240222T040343Z
LAST-MODIFIED:20240222T041300Z
UID:9716-1711648800-1711659600@gmda.org
SUMMARY:CE Event- Unconscious Bias Training with Judge Mosley 
DESCRIPTION:
URL:https://gmda.org/event/ce-event-unconscious-bias-training-with-judge-mosley/
LOCATION:Bucyrus Club\, 1919 12th Ave\, South Milwaukee\, 53172\, United States
CATEGORIES:GMDA Sponsored Event
ORGANIZER;CN="Greater Milwaukee Dental Association":MAILTO:gmda@gmda.org
END:VEVENT
END:VCALENDAR