BEGIN:VCALENDAR
VERSION:2.0
PRODID:-//GMDA - ECPv6.15.20//NONSGML v1.0//EN
CALSCALE:GREGORIAN
METHOD:PUBLISH
X-ORIGINAL-URL:https://gmda.org
X-WR-CALDESC:Events for GMDA
REFRESH-INTERVAL;VALUE=DURATION:PT1H
X-Robots-Tag:noindex
X-PUBLISHED-TTL:PT1H
BEGIN:VTIMEZONE
TZID:America/Chicago
BEGIN:DAYLIGHT
TZOFFSETFROM:-0600
TZOFFSETTO:-0500
TZNAME:CDT
DTSTART:20230312T080000
END:DAYLIGHT
BEGIN:STANDARD
TZOFFSETFROM:-0500
TZOFFSETTO:-0600
TZNAME:CST
DTSTART:20231105T070000
END:STANDARD
BEGIN:DAYLIGHT
TZOFFSETFROM:-0600
TZOFFSETTO:-0500
TZNAME:CDT
DTSTART:20240310T080000
END:DAYLIGHT
BEGIN:STANDARD
TZOFFSETFROM:-0500
TZOFFSETTO:-0600
TZNAME:CST
DTSTART:20241103T070000
END:STANDARD
BEGIN:DAYLIGHT
TZOFFSETFROM:-0600
TZOFFSETTO:-0500
TZNAME:CDT
DTSTART:20250309T080000
END:DAYLIGHT
BEGIN:STANDARD
TZOFFSETFROM:-0500
TZOFFSETTO:-0600
TZNAME:CST
DTSTART:20251102T070000
END:STANDARD
END:VTIMEZONE
BEGIN:VEVENT
DTSTART;TZID=America/Chicago:20240410T183000
DTEND;TZID=America/Chicago:20240410T183000
DTSTAMP:20260421T194321
CREATED:20230630T030314Z
LAST-MODIFIED:20230630T030314Z
UID:9689-1712773800-1712773800@gmda.org
SUMMARY:GMDA Board Meeting
DESCRIPTION:
URL:https://gmda.org/event/gmda-board-meeting-12/
CATEGORIES:GMDA Board Meeting,GMDA Sponsored Event
ORGANIZER;CN="Greater Milwaukee Dental Association":MAILTO:gmda@gmda.org
END:VEVENT
BEGIN:VEVENT
DTSTART;TZID=America/Chicago:20240411T180000
DTEND;TZID=America/Chicago:20240411T210000
DTSTAMP:20260421T194321
CREATED:20240222T040828Z
LAST-MODIFIED:20240222T210457Z
UID:9717-1712858400-1712869200@gmda.org
SUMMARY:Spring Social 
DESCRIPTION:Spring Social
URL:https://gmda.org/event/spring-social/
LOCATION:Aperitivo\, 311 N Plankinton Ave\, \, WI\, Milwaukee\, WI\, 53203\, United States
CATEGORIES:GMDA Sponsored Event
ORGANIZER;CN="Greater Milwaukee Dental Association":MAILTO:gmda@gmda.org
END:VEVENT
END:VCALENDAR