BEGIN:VCALENDAR
VERSION:2.0
PRODID:-//GMDA - ECPv6.15.20//NONSGML v1.0//EN
CALSCALE:GREGORIAN
METHOD:PUBLISH
X-WR-CALNAME:GMDA
X-ORIGINAL-URL:https://gmda.org
X-WR-CALDESC:Events for GMDA
REFRESH-INTERVAL;VALUE=DURATION:PT1H
X-Robots-Tag:noindex
X-PUBLISHED-TTL:PT1H
BEGIN:VTIMEZONE
TZID:America/Chicago
BEGIN:DAYLIGHT
TZOFFSETFROM:-0600
TZOFFSETTO:-0500
TZNAME:CDT
DTSTART:20170312T080000
END:DAYLIGHT
BEGIN:STANDARD
TZOFFSETFROM:-0500
TZOFFSETTO:-0600
TZNAME:CST
DTSTART:20171105T070000
END:STANDARD
BEGIN:DAYLIGHT
TZOFFSETFROM:-0600
TZOFFSETTO:-0500
TZNAME:CDT
DTSTART:20180311T080000
END:DAYLIGHT
BEGIN:STANDARD
TZOFFSETFROM:-0500
TZOFFSETTO:-0600
TZNAME:CST
DTSTART:20181104T070000
END:STANDARD
BEGIN:DAYLIGHT
TZOFFSETFROM:-0600
TZOFFSETTO:-0500
TZNAME:CDT
DTSTART:20190310T080000
END:DAYLIGHT
BEGIN:STANDARD
TZOFFSETFROM:-0500
TZOFFSETTO:-0600
TZNAME:CST
DTSTART:20191103T070000
END:STANDARD
BEGIN:DAYLIGHT
TZOFFSETFROM:-0600
TZOFFSETTO:-0500
TZNAME:CDT
DTSTART:20200308T080000
END:DAYLIGHT
BEGIN:STANDARD
TZOFFSETFROM:-0500
TZOFFSETTO:-0600
TZNAME:CST
DTSTART:20201101T070000
END:STANDARD
END:VTIMEZONE
BEGIN:VEVENT
DTSTART;VALUE=DATE:20190905
DTEND;VALUE=DATE:20190911
DTSTAMP:20260422T232151
CREATED:20181204T005802Z
LAST-MODIFIED:20181204T005802Z
UID:7109-1567645200-1568077199@gmda.org
SUMMARY:ADA Annual Meeting 2019
DESCRIPTION:
URL:https://gmda.org/event/ada-annual-meeting-2019/
LOCATION:San Francisco\, CA
END:VEVENT
BEGIN:VEVENT
DTSTART;TZID=America/Chicago:20190729T110000
DTEND;TZID=America/Chicago:20190729T193000
DTSTAMP:20260422T232151
CREATED:20190112T022027Z
LAST-MODIFIED:20190518T035909Z
UID:7246-1564398000-1564428600@gmda.org
SUMMARY:GMDA Golf Outing - The Legend at Bristlecone
DESCRIPTION:Description\n\n\n\nPlease join us for a fun day of golf and camaraderie at the Legend at Bristlecone Golf Club! \n$165 – Golf\, lunch\, dinner and raffle \n$55 – Dinner only \nEvents & Timing as listed below: \n10 – 11:30am — Driving Range and Lunch\n11:30am — Shotgun Start (Four Person Scramble)\n4 – 5pm —- Cocktails\n5pm —- Dinner (vegetarian option available upon request\n\n\n\n\n\n\n\n\n\n			\n			Click here to register!
URL:https://gmda.org/event/gmda-golf-outing-2019/
LOCATION:The Legend Clubs At Bristlecone Pines\, 1500 Arlene Dr\,\, Hartland\, WI\, 53029\, United States
CATEGORIES:GMDA Sponsored Event
ATTACH;FMTTYPE=image/png:https://gmda.org/wp-content/uploads/2019/01/2019_golfoutting_logo.png
ORGANIZER;CN="Greater Milwaukee Dental Association":MAILTO:gmda@gmda.org
END:VEVENT
BEGIN:VEVENT
DTSTART;VALUE=DATE:20190702
DTEND;VALUE=DATE:20190711
DTSTAMP:20260422T232151
CREATED:20190215T181803Z
LAST-MODIFIED:20190215T181835Z
UID:7400-1562029200-1562720399@gmda.org
SUMMARY:2019 Summerfest
DESCRIPTION:06/26-06/30 and 07/02-07/09
URL:https://gmda.org/event/2019-summerfest-2/
LOCATION:Milwaukee Summerfest\, 200 N Harbor Dr\, Milwaukee\, WI\, 53202\, United States
END:VEVENT
BEGIN:VEVENT
DTSTART;VALUE=DATE:20190626
DTEND;VALUE=DATE:20190702
DTSTAMP:20260422T232151
CREATED:20190113T213309Z
LAST-MODIFIED:20190215T181630Z
UID:7326-1561510800-1561942799@gmda.org
SUMMARY:2019 Summerfest
DESCRIPTION:06/26-06/30 and 07/02-07/09
URL:https://gmda.org/event/2019-summerfest/
LOCATION:Milwaukee Summerfest\, 200 N Harbor Dr\, Milwaukee\, WI\, 53202\, United States
END:VEVENT
BEGIN:VEVENT
DTSTART;VALUE=DATE:20190612
DTEND;VALUE=DATE:20190614
DTSTAMP:20260422T232151
CREATED:20181010T022350Z
LAST-MODIFIED:20181010T022350Z
UID:5995-1560301200-1560387599@gmda.org
SUMMARY:GMDA Board Meeting
DESCRIPTION:Time and venue location – TBD
URL:https://gmda.org/event/gmda-board-meeting-2019-06-12/
LOCATION:TBD
CATEGORIES:GMDA Board Meeting,GMDA Sponsored Event
ORGANIZER;CN="Greater Milwaukee Dental Association":MAILTO:gmda@gmda.org
END:VEVENT
BEGIN:VEVENT
DTSTART;VALUE=DATE:20190606
DTEND;VALUE=DATE:20190608
DTSTAMP:20260422T232151
CREATED:20190530T012534Z
LAST-MODIFIED:20190530T012549Z
UID:7689-1559782800-1559869199@gmda.org
SUMMARY:UPAF Ride for the Arts
DESCRIPTION:
URL:https://gmda.org/event/upaf-ride-for-the-arts-2019/
LOCATION:WI
END:VEVENT
BEGIN:VEVENT
DTSTART;VALUE=DATE:20190602
DTEND;VALUE=DATE:20190604
DTSTAMP:20260422T232151
CREATED:20180816T012841Z
LAST-MODIFIED:20180816T012841Z
UID:4416-1559437200-1559523599@gmda.org
SUMMARY:UPAF Ride For The Arts
DESCRIPTION:
URL:https://gmda.org/event/upaf-ride-for-the-arts-2/
LOCATION:Milwaukee Summerfest\, 200 N Harbor Dr\, Milwaukee\, WI\, 53202\, United States
ORGANIZER;CN="Greater Milwaukee Dental Association":MAILTO:gmda@gmda.org
END:VEVENT
BEGIN:VEVENT
DTSTART;VALUE=DATE:20190516
DTEND;VALUE=DATE:20190518
DTSTAMP:20260422T232151
CREATED:20181010T022116Z
LAST-MODIFIED:20181010T022122Z
UID:5992-1557968400-1558054799@gmda.org
SUMMARY:GMDA Annual Meeting
DESCRIPTION:Time and venue location – TBD
URL:https://gmda.org/event/gmda-annual-meeting-2019-05-16/
LOCATION:TBD
CATEGORIES:GMDA Annual Meeting,GMDA Sponsored Event
ORGANIZER;CN="Greater Milwaukee Dental Association":MAILTO:gmda@gmda.org
END:VEVENT
BEGIN:VEVENT
DTSTART;TZID=America/Chicago:20190502T180000
DTEND;TZID=America/Chicago:20190502T200000
DTSTAMP:20260422T232151
CREATED:20190215T190357Z
LAST-MODIFIED:20190317T224504Z
UID:7402-1556820000-1556827200@gmda.org
SUMMARY:Legislative Meet and Greet
DESCRIPTION:
URL:https://gmda.org/event/legislative-meet-and-greet/
LOCATION:Pourman’s\, 1127 N Water Street\, Milwaukee\, WI\, 53202\, United States
CATEGORIES:GMDA Sponsored Event
ORGANIZER;CN="Greater Milwaukee Dental Association":MAILTO:gmda@gmda.org
END:VEVENT
BEGIN:VEVENT
DTSTART;VALUE=DATE:20190410
DTEND;VALUE=DATE:20190412
DTSTAMP:20260422T232151
CREATED:20181010T022004Z
LAST-MODIFIED:20181010T022300Z
UID:5990-1554858000-1554944399@gmda.org
SUMMARY:GMDA Board Meeting
DESCRIPTION:Time and venue location – TBD
URL:https://gmda.org/event/gmda-board-meeting-2/
LOCATION:TBD
CATEGORIES:GMDA Board Meeting,GMDA Sponsored Event
ORGANIZER;CN="Greater Milwaukee Dental Association":MAILTO:gmda@gmda.org
END:VEVENT
BEGIN:VEVENT
DTSTART;TZID=America/Chicago:20190404T190000
DTEND;TZID=America/Chicago:20190404T210000
DTSTAMP:20260422T232151
CREATED:20180811T012725Z
LAST-MODIFIED:20190222T020102Z
UID:4415-1554404400-1554411600@gmda.org
SUMMARY:GMDA Spring Social-Black Sheep
DESCRIPTION:April 4\, 2019 \nBlack Sheep\n \nTime: 6pm – 8pm \n  \nSpring Social hosted by the GMDA\n \nSpecial guest WDA President Dr. Patrick Tepe\n  \nSign-up Link: Click here\nTwo free drink tickets to D4s and New Dentists\n(all Wisconsin component dental societies welcome)
URL:https://gmda.org/event/gmda-spring-social/
LOCATION:Black Sheep MKE\, 216 S 2nd St\, Milwaukee\, WI\, 53204\, United States
CATEGORIES:GMDA Sponsored Event
ORGANIZER;CN="Greater Milwaukee Dental Association":MAILTO:gmda@gmda.org
END:VEVENT
BEGIN:VEVENT
DTSTART;VALUE=DATE:20190319
DTEND;VALUE=DATE:20190321
DTSTAMP:20260422T232151
CREATED:20180816T012656Z
LAST-MODIFIED:20190317T224507Z
UID:4414-1552957200-1553043599@gmda.org
SUMMARY:WDA Legislative Day
DESCRIPTION:Advocacy Corner\n \nLegislative Day is March 19\, 2019 at Monona Terrace in Madison. It is not too late to sign up. GMDA will reimburse your $25 registration fee for those that lobby in the Capitol. Advocacy is the number one member benefit. Join us this year and make a difference! Register at http://www.wda.org/members-2/legislative-day.
URL:https://gmda.org/event/wda-legislative-day/
LOCATION:Monona Terrace\, 1 John Nolen Dr\, Madison\, WI\, 53703\, United States
CATEGORIES:GMDA Sponsored Event
END:VEVENT
BEGIN:VEVENT
DTSTART;VALUE=DATE:20190315
DTEND;VALUE=DATE:20190317
DTSTAMP:20260422T232151
CREATED:20181204T020221Z
LAST-MODIFIED:20190116T032558Z
UID:7156-1552611600-1552697999@gmda.org
SUMMARY:GMDA All Day CE
DESCRIPTION:Details: An Interdisciplinary Approach to Sleep Disordered Breathing: Screening\, Diagnosis\, and Treatment Options \nDrs. Tucker Woodson\, MD and Carolyn Brookes DMD\, MD \nLocation: Iron Horse Hotel \nAgenda: \n7:30 – Registration/Continental Breakfast \n8:00 – Lecture \n11:30 – Lunch \n3:00 – Adjournment \nEventbrite Event Sign-up Link
URL:https://gmda.org/event/gmda-all-day-ce-2/
LOCATION:Iron Horse Hotel\, 500 W Florida St.\, Milwaukee\, WI\, 53204\, United States
CATEGORIES:GMDA Sponsored Event
END:VEVENT
BEGIN:VEVENT
DTSTART;VALUE=DATE:20190313
DTEND;VALUE=DATE:20190315
DTSTAMP:20260422T232151
CREATED:20181010T021922Z
LAST-MODIFIED:20190113T212940Z
UID:5988-1552438800-1552525199@gmda.org
SUMMARY:GMDA Board Meeting
DESCRIPTION:
URL:https://gmda.org/event/gmda-board-meeting/
LOCATION:TBD
CATEGORIES:GMDA Board Meeting,GMDA Sponsored Event
ORGANIZER;CN="Greater Milwaukee Dental Association":MAILTO:gmda@gmda.org
END:VEVENT
BEGIN:VEVENT
DTSTART;TZID=America/Chicago:20190307T180000
DTEND;TZID=America/Chicago:20190307T193000
DTSTAMP:20260422T232151
CREATED:20190305T020426Z
LAST-MODIFIED:20190305T030442Z
UID:7416-1551981600-1551987000@gmda.org
SUMMARY:Post-Graduate Education Panel
DESCRIPTION:Five talented local general dentists will facilitate a panel discussion about post-graduate options such as GPR and AEGD residencies\, community health dentistry\, as well as employment in private practice and in corporate dentistry. Light snacks will be served. Free to attend\, no RSVP required. Free parking is located in the Patient Parking lot\, entrance is on 18th street\, behind the dental school.\nHosted by: \nGMDA & Marquette’s student chapter of American Dental Education Association \nWhen: \nThursday\, March 7 at 6:00 PM \nWhere: \nMarquette University School of Dentistry\n1801 West Wisconsin Avenue\nMilwaukee\, WI 53233
URL:https://gmda.org/event/post-graduate-education-panel/
LOCATION:Marquette University School of Dentistry\, 1801 W Wisconsin Ave\, Milwaukee\, WI\, 53233\, United States
CATEGORIES:GMDA Sponsored Event
ORGANIZER;CN="Greater Milwaukee Dental Association":MAILTO:gmda@gmda.org
END:VEVENT
BEGIN:VEVENT
DTSTART;VALUE=DATE:20190221
DTEND;VALUE=DATE:20190224
DTSTAMP:20260422T232151
CREATED:20181204T010717Z
LAST-MODIFIED:20181204T010717Z
UID:7124-1550707200-1550966399@gmda.org
SUMMARY:CDS Midwinter Meeting 2019
DESCRIPTION:
URL:https://gmda.org/event/cds-midwinter-meeting-2019/
LOCATION:McCormick Place West\, 2301 S Indiana Ave.\, Chicago\, IL\, 60616\, United States
END:VEVENT
BEGIN:VEVENT
DTSTART;VALUE=DATE:20190213
DTEND;VALUE=DATE:20190214
DTSTAMP:20260422T232151
CREATED:20181204T004900Z
LAST-MODIFIED:20181204T004900Z
UID:7104-1550016000-1550102399@gmda.org
SUMMARY:GMDA Board Meeting
DESCRIPTION:
URL:https://gmda.org/event/gmda-board-meeting-4/
LOCATION:WI
CATEGORIES:GMDA Board Meeting,GMDA Sponsored Event
ORGANIZER;CN="Greater Milwaukee Dental Association":MAILTO:gmda@gmda.org
END:VEVENT
BEGIN:VEVENT
DTSTART;VALUE=DATE:20190109
DTEND;VALUE=DATE:20190110
DTSTAMP:20260422T232151
CREATED:20181204T004748Z
LAST-MODIFIED:20181204T004840Z
UID:7102-1546992000-1547078399@gmda.org
SUMMARY:GMDA Board Meeting
DESCRIPTION:
URL:https://gmda.org/event/gmda-board-meeting-3/
LOCATION:WI
CATEGORIES:GMDA Board Meeting,GMDA Sponsored Event
ORGANIZER;CN="Greater Milwaukee Dental Association":MAILTO:gmda@gmda.org
END:VEVENT
BEGIN:VEVENT
DTSTART;VALUE=DATE:20181206
DTEND;VALUE=DATE:20181207
DTSTAMP:20260422T232151
CREATED:20180816T012713Z
LAST-MODIFIED:20180816T013752Z
UID:4412-1544054400-1544140799@gmda.org
SUMMARY:GMDA Holiday Party
DESCRIPTION:
URL:https://gmda.org/event/gmda-holiday-party-2/
LOCATION:Westmoor Country Club\, 400 S Moorland Rd\, Brookfield\, WI\, 53005\, United States
ORGANIZER;CN="Greater Milwaukee Dental Association":MAILTO:gmda@gmda.org
END:VEVENT
BEGIN:VEVENT
DTSTART;VALUE=DATE:20181115
DTEND;VALUE=DATE:20181116
DTSTAMP:20260422T232151
CREATED:20181010T021143Z
LAST-MODIFIED:20181010T021143Z
UID:5976-1542240000-1542326399@gmda.org
SUMMARY:GMDA Newsletter Deadline
DESCRIPTION:
URL:https://gmda.org/event/gmda-newsletter-deadline-2018-11-15/
LOCATION:WI
CATEGORIES:Reminder
ORGANIZER;CN="Greater Milwaukee Dental Association":MAILTO:gmda@gmda.org
END:VEVENT
BEGIN:VEVENT
DTSTART;TZID=America/Chicago:20181109T080000
DTEND;TZID=America/Chicago:20181110T170000
DTSTAMP:20260422T232151
CREATED:20180816T012332Z
LAST-MODIFIED:20180816T012332Z
UID:4408-1541750400-1541869200@gmda.org
SUMMARY:WDA House of Delegates
DESCRIPTION:
URL:https://gmda.org/event/wda-house-of-delegates-2/
LOCATION:Blue Harbor Resort\, 725 Blue Harbor Dr\, Sheboygan\, WI\, 53081\, United States
ORGANIZER;CN="Greater Milwaukee Dental Association":MAILTO:gmda@gmda.org
END:VEVENT
BEGIN:VEVENT
DTSTART;VALUE=DATE:20181109
DTEND;VALUE=DATE:20181111
DTSTAMP:20260422T232151
CREATED:20181204T010159Z
LAST-MODIFIED:20181204T015932Z
UID:7119-1541721600-1541894399@gmda.org
SUMMARY:WDA House of Delegates 2018
DESCRIPTION:
URL:https://gmda.org/event/wda-house-of-delegates-2018/
LOCATION:Blue Harbor Resort\, 725 Blue Harbor Dr\, Sheboygan\, WI\, 53081\, United States
END:VEVENT
BEGIN:VEVENT
DTSTART;VALUE=DATE:20181108
DTEND;VALUE=DATE:20181110
DTSTAMP:20260422T232151
CREATED:20181204T010425Z
LAST-MODIFIED:20181204T010425Z
UID:7121-1541635200-1541807999@gmda.org
SUMMARY:WDA House of Delegates 2019
DESCRIPTION:
URL:https://gmda.org/event/wda-house-of-delegates-2019/
LOCATION:Eau Claire-Lismore Hotel\, 333 Gibson St.\, Eau Claire\, WI\, 54701\, United States
END:VEVENT
BEGIN:VEVENT
DTSTART;VALUE=DATE:20181108
DTEND;VALUE=DATE:20181109
DTSTAMP:20260422T232151
CREATED:20180816T012231Z
LAST-MODIFIED:20180816T012231Z
UID:4406-1541635200-1541721599@gmda.org
SUMMARY:WDA CE/Networking Event
DESCRIPTION:
URL:https://gmda.org/event/wda-ce-networking-event-2/
LOCATION:Blue Harbor Resort\, 725 Blue Harbor Dr\, Sheboygan\, WI\, 53081\, United States
ORGANIZER;CN="Greater Milwaukee Dental Association":MAILTO:gmda@gmda.org
END:VEVENT
BEGIN:VEVENT
DTSTART;VALUE=DATE:20181107
DTEND;VALUE=DATE:20181108
DTSTAMP:20260422T232151
CREATED:20181010T020751Z
LAST-MODIFIED:20181010T022300Z
UID:5972-1541548800-1541635199@gmda.org
SUMMARY:GMDA Board Meeting
DESCRIPTION:Time and venue location – TBD
URL:https://gmda.org/event/gmda-board-meeting-2018-11-07/
LOCATION:TBD
CATEGORIES:GMDA Board Meeting,GMDA Sponsored Event
ORGANIZER;CN="Greater Milwaukee Dental Association":MAILTO:gmda@gmda.org
END:VEVENT
BEGIN:VEVENT
DTSTART;VALUE=DATE:20181024
DTEND;VALUE=DATE:20181026
DTSTAMP:20260422T232151
CREATED:20181010T020557Z
LAST-MODIFIED:20181010T020915Z
UID:5969-1540342800-1540429199@gmda.org
SUMMARY:GMDA Board Meeting
DESCRIPTION:Time and venue location – TBD
URL:https://gmda.org/event/gmda-board-meeting-2018-10-24/
LOCATION:TBD
CATEGORIES:GMDA Board Meeting,GMDA Sponsored Event
ORGANIZER;CN="Greater Milwaukee Dental Association":MAILTO:gmda@gmda.org
END:VEVENT
BEGIN:VEVENT
DTSTART;TZID=America/Chicago:20181009T090000
DTEND;TZID=America/Chicago:20181009T180000
DTSTAMP:20260422T232151
CREATED:20181010T021709Z
LAST-MODIFIED:20181010T021709Z
UID:5984-1539075600-1539108000@gmda.org
SUMMARY:GMDA CE-Potawatomi
DESCRIPTION:
URL:https://gmda.org/event/gmda-ce-potawatomi-2018-10-04/
LOCATION:Potawatomi Hotel & Casino\, 1721 West Canal St.\, Milwaukee\, WI\, 53233\, United States
ORGANIZER;CN="Greater Milwaukee Dental Association":MAILTO:gmda@gmda.org
END:VEVENT
BEGIN:VEVENT
DTSTART;TZID=America/Chicago:20181006T090000
DTEND;TZID=America/Chicago:20181006T130000
DTSTAMP:20260422T232151
CREATED:20180816T012042Z
LAST-MODIFIED:20180816T012153Z
UID:4393-1538816400-1538830800@gmda.org
SUMMARY:HeadStart Screening
DESCRIPTION:HeadStart ScreeningMUSoD
URL:https://gmda.org/event/headstart-screening-2/
LOCATION:Marquette University School of Dentistry\, 1801 W Wisconsin Ave\, Milwaukee\, WI\, 53233\, United States
ORGANIZER;CN="Greater Milwaukee Dental Association":MAILTO:gmda@gmda.org
END:VEVENT
BEGIN:VEVENT
DTSTART;VALUE=DATE:20181006
DTEND;VALUE=DATE:20181008
DTSTAMP:20260422T232151
CREATED:20181010T021810Z
LAST-MODIFIED:20181010T023750Z
UID:5986-1538787600-1538873999@gmda.org
SUMMARY:HeadStart Screening at MUSoD
DESCRIPTION:
URL:https://gmda.org/event/headstart-screening-at-musod/
LOCATION:Marquette University School of Dentistry\, 1801 W Wisconsin Ave\, Milwaukee\, WI\, 53233\, United States
ORGANIZER;CN="Greater Milwaukee Dental Association":MAILTO:gmda@gmda.org
END:VEVENT
BEGIN:VEVENT
DTSTART;VALUE=DATE:20181004
DTEND;VALUE=DATE:20181006
DTSTAMP:20260422T232151
CREATED:20180816T002832Z
LAST-MODIFIED:20180816T002832Z
UID:4391-1538614800-1538701199@gmda.org
SUMMARY:GMDA CE Event
DESCRIPTION:Dr. Joe Best \nPotawatomi Hotel & Casino
URL:https://gmda.org/event/gmda-ce-event/
LOCATION:Potawatomi Hotel & Casino\, 1721 West Canal St.\, Milwaukee\, WI\, 53233\, United States
ORGANIZER;CN="Greater Milwaukee Dental Association":MAILTO:gmda@gmda.org
END:VEVENT
END:VCALENDAR