BEGIN:VCALENDAR
VERSION:2.0
PRODID:-//GMDA - ECPv6.15.20//NONSGML v1.0//EN
CALSCALE:GREGORIAN
METHOD:PUBLISH
X-WR-CALNAME:GMDA
X-ORIGINAL-URL:https://gmda.org
X-WR-CALDESC:Events for GMDA
REFRESH-INTERVAL;VALUE=DURATION:PT1H
X-Robots-Tag:noindex
X-PUBLISHED-TTL:PT1H
BEGIN:VTIMEZONE
TZID:America/Chicago
BEGIN:DAYLIGHT
TZOFFSETFROM:-0600
TZOFFSETTO:-0500
TZNAME:CDT
DTSTART:20170312T080000
END:DAYLIGHT
BEGIN:STANDARD
TZOFFSETFROM:-0500
TZOFFSETTO:-0600
TZNAME:CST
DTSTART:20171105T070000
END:STANDARD
BEGIN:DAYLIGHT
TZOFFSETFROM:-0600
TZOFFSETTO:-0500
TZNAME:CDT
DTSTART:20180311T080000
END:DAYLIGHT
BEGIN:STANDARD
TZOFFSETFROM:-0500
TZOFFSETTO:-0600
TZNAME:CST
DTSTART:20181104T070000
END:STANDARD
BEGIN:DAYLIGHT
TZOFFSETFROM:-0600
TZOFFSETTO:-0500
TZNAME:CDT
DTSTART:20190310T080000
END:DAYLIGHT
BEGIN:STANDARD
TZOFFSETFROM:-0500
TZOFFSETTO:-0600
TZNAME:CST
DTSTART:20191103T070000
END:STANDARD
END:VTIMEZONE
BEGIN:VEVENT
DTSTART;TZID=America/Chicago:20180919T193000
DTEND;TZID=America/Chicago:20180919T213000
DTSTAMP:20260423T042058
CREATED:20181010T020329Z
LAST-MODIFIED:20181010T020405Z
UID:5966-1537385400-1537392600@gmda.org
SUMMARY:GMDA Board Meeting 2018/09/19
DESCRIPTION:
URL:https://gmda.org/event/gmda-board-meeting-2018-09-19/
LOCATION:Jack’s Cafe\, N4W22496 Bluemound Road\, Waukesha\, Wisconsin\, 53186\, United States
CATEGORIES:GMDA Board Meeting,GMDA Sponsored Event
ORGANIZER;CN="Greater Milwaukee Dental Association":MAILTO:gmda@gmda.org
END:VEVENT
BEGIN:VEVENT
DTSTART;VALUE=DATE:20180829
DTEND;VALUE=DATE:20180831
DTSTAMP:20260423T042058
CREATED:20180816T002746Z
LAST-MODIFIED:20180816T002746Z
UID:4388-1535504400-1535590799@gmda.org
SUMMARY:GMDA Fall Outing
DESCRIPTION:Good City Brewing
URL:https://gmda.org/event/gmda-fall-outing/
LOCATION:City Lights Brewing Co\, 2200 W Mt Vernon Ave\, Milwaukee\,\, Milwaukee\, WI\, 53233\, United States
ORGANIZER;CN="Greater Milwaukee Dental Association":MAILTO:gmda@gmda.org
END:VEVENT
BEGIN:VEVENT
DTSTART;VALUE=DATE:20180822
DTEND;VALUE=DATE:20180824
DTSTAMP:20260423T042058
CREATED:20181010T021452Z
LAST-MODIFIED:20181010T021452Z
UID:5980-1534899600-1534985999@gmda.org
SUMMARY:GMDA Budget Meeting
DESCRIPTION:
URL:https://gmda.org/event/gmda-budget-meeting/
LOCATION:TBD
CATEGORIES:GMDA Sponsored Event
ORGANIZER;CN="Greater Milwaukee Dental Association":MAILTO:gmda@gmda.org
END:VEVENT
BEGIN:VEVENT
DTSTART;VALUE=DATE:20180815
DTEND;VALUE=DATE:20180817
DTSTAMP:20260423T042058
CREATED:20181010T021541Z
LAST-MODIFIED:20181010T021554Z
UID:5982-1534294800-1534381199@gmda.org
SUMMARY:GMDA Newsletter Deadline
DESCRIPTION:
URL:https://gmda.org/event/gmda-newsletter-deadline-2018-08-15/
LOCATION:TBD
ORGANIZER;CN="Greater Milwaukee Dental Association":MAILTO:gmda@gmda.org
END:VEVENT
BEGIN:VEVENT
DTSTART;VALUE=DATE:20180730
DTEND;VALUE=DATE:20180801
DTSTAMP:20260423T042058
CREATED:20180326T005708Z
LAST-MODIFIED:20180326T005708Z
UID:2866-1532912400-1532998799@gmda.org
SUMMARY:GMDA Golf Outing
DESCRIPTION:
URL:https://gmda.org/event/gmda-golf-outing/
LOCATION:WI
ORGANIZER;CN="Greater Milwaukee Dental Association":MAILTO:gmda@gmda.org
END:VEVENT
BEGIN:VEVENT
DTSTART;VALUE=DATE:20180613
DTEND;VALUE=DATE:20180615
DTSTAMP:20260423T042058
CREATED:20181010T021331Z
LAST-MODIFIED:20181010T021343Z
UID:5978-1528851600-1528937999@gmda.org
SUMMARY:GMDA Board Meeting
DESCRIPTION:
URL:https://gmda.org/event/gmda-board-meeting-2018-06-13/
LOCATION:TBD
CATEGORIES:GMDA Board Meeting,GMDA Sponsored Event
ORGANIZER;CN="Greater Milwaukee Dental Association":MAILTO:gmda@gmda.org
END:VEVENT
BEGIN:VEVENT
DTSTART;VALUE=DATE:20180603
DTEND;VALUE=DATE:20180605
DTSTAMP:20260423T042058
CREATED:20180326T005639Z
LAST-MODIFIED:20180326T005639Z
UID:2864-1527987600-1528073999@gmda.org
SUMMARY:UPAF Ride for the Arts
DESCRIPTION:
URL:https://gmda.org/event/upaf-ride-for-the-arts/
LOCATION:WI
END:VEVENT
BEGIN:VEVENT
DTSTART;TZID=America/Chicago:20180517T190000
DTEND;TZID=America/Chicago:20180517T210000
DTSTAMP:20260423T042058
CREATED:20180326T005600Z
LAST-MODIFIED:20181010T022234Z
UID:2862-1526583600-1526590800@gmda.org
SUMMARY:GMDA Annual Meeting
DESCRIPTION:Italian Community Center
URL:https://gmda.org/event/gmda-annual-meeting/
LOCATION:WI
CATEGORIES:GMDA Annual Meeting,GMDA Sponsored Event
ORGANIZER;CN="Greater Milwaukee Dental Association":MAILTO:gmda@gmda.org
END:VEVENT
BEGIN:VEVENT
DTSTART;VALUE=DATE:20180416
DTEND;VALUE=DATE:20180418
DTSTAMP:20260423T042058
CREATED:20180326T014656Z
LAST-MODIFIED:20180326T014825Z
UID:2883-1523840400-1523926799@gmda.org
SUMMARY:2018 Elections
DESCRIPTION:Dear Members of the Greater Milwaukee Dental Association\, \nOn behalf of the GMDA\, I want to remind our membership that our 2018 election process is right around the corner.  We are preparing the ballot and we need applicants for fill open leadership positions.  Please consider nominating yourself or a colleague. \nWe have Vice President\, Secretary\, and Board of Directors positions available.  There is also one Trustee position available as well as a chance to serve as a delegate or alternate delegate at our annual House of Delegates meeting on November 9-10\, 2018 in Sheboygan. \nIf you would like to be nominated on the ballot\, please go to GMDA.org and go to “Contact GMDA” to leave an email with the position(s) to which you are interested and a brief paragraph explaining why you are interested. \nWe are dedicated to serving both the public and the members of our profession.  Our goal is to promote accessible oral health care for everyone and we would love to have you play a more significant role in helping us achieve these goals.  Getting involved is a fantastic way to stay informed of the many issues affecting the dental profession\, and current Board members and Trustees have always been and will always be eager to welcome and mentor new leaders. \nAngela Lueck\, DDS \nPresident of the Greater Milwaukee Dental Association \nWould you like to get involved in GMDA leadership? \nThe GMDA is preparing the 2018 ballot and needs applicants to fill open leadership positions.  Please consider nominating yourself or a colleague.  If you would like to be considered please send an email to gmda@gmda.org indicating the position(s) in which you are interested and a paragraph (150 word maximum) explaining why you would be a good candidate. \nGetting involved is a fantastic way to stay informed about the many issues affecting the dental profession.  Current board members and trustees are always eager to welcome and mentor new members.  If you have questions about the job duties of any position please contact any of the leaders whose contact info is on the back page of the newsletter. \nPresident Dr. Lisa Teel will automatically be installed \nPresident-Elect open seat \n1 candidate Dr. Joe Nencka \nVice-President open seat \n1 candidate Dr. Tom Shaw \nRecording Secretary open seat \n1 candidate Dr. Jim Landon \nBoard of Directors 4 open seats \n3 candidates Drs. Eddie Morales\, Zak Rosen and Katie Satula \nDelegates 4 open seats \nAlternate Delegates 11 open seats \nWDA Region 3 Trustee open seat \n1 candidate Dr. Cheska Avery-Stafford
URL:https://gmda.org/event/2018-elections/
LOCATION:WI
ORGANIZER;CN="Greater Milwaukee Dental Association":MAILTO:gmda@gmda.org
END:VEVENT
BEGIN:VEVENT
DTSTART;VALUE=DATE:20180413
DTEND;VALUE=DATE:20180415
DTSTAMP:20260423T042058
CREATED:20180326T005527Z
LAST-MODIFIED:20180326T005527Z
UID:2859-1523581200-1523667599@gmda.org
SUMMARY:GMDA CE
DESCRIPTION:Dr. Lyndon Cooper \nCrowne Plaza Milwaukee West\n10499 Innovation Drive\nMilwaukee\, WI 53226\n414.475.9500
URL:https://gmda.org/event/gmda-ce/
LOCATION:WI
ORGANIZER;CN="Greater Milwaukee Dental Association":MAILTO:gmda@gmda.org
END:VEVENT
BEGIN:VEVENT
DTSTART;TZID=America/Chicago:20180405T190000
DTEND;TZID=America/Chicago:20180405T210000
DTSTAMP:20260423T042058
CREATED:20180326T005417Z
LAST-MODIFIED:20180326T005417Z
UID:2857-1522954800-1522962000@gmda.org
SUMMARY:GMDA Sign Up Day-Black Sheep
DESCRIPTION:GMDA Happy Hour Networking Event – April 5
URL:https://gmda.org/event/gmda-sign-up-day-black-sheep/
LOCATION:WI
ORGANIZER;CN="Greater Milwaukee Dental Association":MAILTO:gmda@gmda.org
END:VEVENT
BEGIN:VEVENT
DTSTART;TZID=America/Chicago:20180322T183000
DTEND;TZID=America/Chicago:20180322T213000
DTSTAMP:20260423T042058
CREATED:20180311T023538Z
LAST-MODIFIED:20180311T023539Z
UID:2684-1521743400-1521754200@gmda.org
SUMMARY:Power of Three
DESCRIPTION:Please join the GMDA for an exciting upcoming event focused on the concept of the Power Of Three\, which is the collaboration and synergy between our local\, state\, and national dental associations. Three speakers will represent the different levels of the tripartite organization. Kamyar Nasseh\, PhD\, Health Economist at the ADA’s Health Policy Institute\, will present data about the state of dentistry from a national level and give us an idea of how Wisconsin compares. Dr. Dave Clemens\, our WDA president\, will speak about issues at the state level\, touching upon legislative issues like the status of EFDAs as well as the Transparency for Dentist Insurance Contracts Bill. He will provide an update on our Medicaid Pilot Program and touch upon the concerns of dentists from across our state. Dr. Angela Lueck\, our GMDA president\, will speak about issues at the component level. She will discuss the positive trends within our component highlighting the progress of the last two years and what we have to look forward to in upcoming years.\nThis will be a wonderful opportunity to receive relevant information regarding current happenings in organized dentistry. The Greater Milwaukee Dental Association is hosting this event in the hopes of providing members with a fun\, relaxed way to stay current\, connected\, and informed. Join us Thursday\, March 22nd at Bluemound Country Club! Cocktail hour starts at 5:30\, dinner will be served at 6:30.\nPlease RSVP by emailing Sarah Blair at sarahblairdds@gmail.com or by mailing a check ($40 for members\, $50 for non-members\, written to GMDA) to 8531 W Lincoln Ave\, West Allis\, WI 53227. Those who RSVP via email may pay with cash or check at the event.
URL:https://gmda.org/event/power-of-three/
LOCATION:Blue Mound Golf & Country Club\, 10122 W North Ave\, Wauwatosa\, WI\, 53226\, United States
CATEGORIES:Test Category1,Test Category1.1
ATTACH;FMTTYPE=image/jpeg:https://gmda.org/wp-content/uploads/2018/03/Test-GMDAEvent.jpg
ORGANIZER;CN="Greater Milwaukee Dental Association":MAILTO:gmda@gmda.org
END:VEVENT
END:VCALENDAR