BEGIN:VCALENDAR
VERSION:2.0
PRODID:-//GMDA - ECPv6.15.20//NONSGML v1.0//EN
CALSCALE:GREGORIAN
METHOD:PUBLISH
X-WR-CALNAME:GMDA
X-ORIGINAL-URL:https://gmda.org
X-WR-CALDESC:Events for GMDA
REFRESH-INTERVAL;VALUE=DURATION:PT1H
X-Robots-Tag:noindex
X-PUBLISHED-TTL:PT1H
BEGIN:VTIMEZONE
TZID:America/Chicago
BEGIN:DAYLIGHT
TZOFFSETFROM:-0600
TZOFFSETTO:-0500
TZNAME:CDT
DTSTART:20190310T080000
END:DAYLIGHT
BEGIN:STANDARD
TZOFFSETFROM:-0500
TZOFFSETTO:-0600
TZNAME:CST
DTSTART:20191103T070000
END:STANDARD
BEGIN:DAYLIGHT
TZOFFSETFROM:-0600
TZOFFSETTO:-0500
TZNAME:CDT
DTSTART:20200308T080000
END:DAYLIGHT
BEGIN:STANDARD
TZOFFSETFROM:-0500
TZOFFSETTO:-0600
TZNAME:CST
DTSTART:20201101T070000
END:STANDARD
BEGIN:DAYLIGHT
TZOFFSETFROM:-0600
TZOFFSETTO:-0500
TZNAME:CDT
DTSTART:20210314T080000
END:DAYLIGHT
BEGIN:STANDARD
TZOFFSETFROM:-0500
TZOFFSETTO:-0600
TZNAME:CST
DTSTART:20211107T070000
END:STANDARD
BEGIN:DAYLIGHT
TZOFFSETFROM:-0600
TZOFFSETTO:-0500
TZNAME:CDT
DTSTART:20220313T080000
END:DAYLIGHT
BEGIN:STANDARD
TZOFFSETFROM:-0500
TZOFFSETTO:-0600
TZNAME:CST
DTSTART:20221106T070000
END:STANDARD
BEGIN:DAYLIGHT
TZOFFSETFROM:-0600
TZOFFSETTO:-0500
TZNAME:CDT
DTSTART:20230312T080000
END:DAYLIGHT
BEGIN:STANDARD
TZOFFSETFROM:-0500
TZOFFSETTO:-0600
TZNAME:CST
DTSTART:20231105T070000
END:STANDARD
END:VTIMEZONE
BEGIN:VEVENT
DTSTART;VALUE=DATE:20220916
DTEND;VALUE=DATE:20220918
DTSTAMP:20260422T170345
CREATED:20220929T024255Z
LAST-MODIFIED:20220929T024255Z
UID:8891-1663286400-1663459199@gmda.org
SUMMARY:WDA Board of Trustees Meeting
DESCRIPTION:
URL:https://gmda.org/event/wda-board-of-trustees-meeting/
END:VEVENT
BEGIN:VEVENT
DTSTART;VALUE=DATE:20220725
DTEND;VALUE=DATE:20220726
DTSTAMP:20260422T170345
CREATED:20220324T014505Z
LAST-MODIFIED:20220324T015148Z
UID:8797-1658707200-1658793599@gmda.org
SUMMARY:GMDA Golf Outing at River Club of Mequon
DESCRIPTION:The date is set for July 25th. More details to follow.
URL:https://gmda.org/event/gmda-golf-outing-at-river-club-of-mequon/
LOCATION:River Club of Mequon\, 12400 N Ville Du Parc Dr.\, Mequon\, WI\, 53092
CATEGORIES:GMDA Sponsored Event
ORGANIZER;CN="Greater Milwaukee Dental Association":MAILTO:gmda@gmda.org
END:VEVENT
BEGIN:VEVENT
DTSTART;VALUE=DATE:20220605
DTEND;VALUE=DATE:20220606
DTSTAMP:20260422T170345
CREATED:20220324T014320Z
LAST-MODIFIED:20220324T014930Z
UID:8794-1654387200-1654473599@gmda.org
SUMMARY:GMDA Ride for the Arts
DESCRIPTION:Please navigate to: https://mailchi.mp/wda/4jwb0w3z7q-417270?e=d3145f7dd7 for additional details regarding the event\n 
URL:https://gmda.org/event/gmda-ride-for-the-arts/
LOCATION:Milwaukee Summerfest\, 200 N Harbor Dr\, Milwaukee\, WI\, 53202\, United States
CATEGORIES:GMDA Sponsored Event
ORGANIZER;CN="Greater Milwaukee Dental Association":MAILTO:gmda@gmda.org
END:VEVENT
BEGIN:VEVENT
DTSTART;VALUE=DATE:20220512
DTEND;VALUE=DATE:20220513
DTSTAMP:20260422T170345
CREATED:20220324T013912Z
LAST-MODIFIED:20220324T015210Z
UID:8789-1652313600-1652399999@gmda.org
SUMMARY:GMDA Annual Meeting 2022
DESCRIPTION:The date is set for May 12th. More details to follow.
URL:https://gmda.org/event/gmda-annual-meeting-2022/
ORGANIZER;CN="Greater Milwaukee Dental Association":MAILTO:gmda@gmda.org
END:VEVENT
BEGIN:VEVENT
DTSTART;VALUE=DATE:20220413
DTEND;VALUE=DATE:20220414
DTSTAMP:20260422T170345
CREATED:20211014T023441Z
LAST-MODIFIED:20211014T023614Z
UID:8662-1649808000-1649894399@gmda.org
SUMMARY:Board Meeting
DESCRIPTION:
URL:https://gmda.org/event/board-meeting-3/
CATEGORIES:GMDA Board Meeting,GMDA Sponsored Event
END:VEVENT
BEGIN:VEVENT
DTSTART;TZID=America/Chicago:20220407T173000
DTEND;TZID=America/Chicago:20220407T210000
DTSTAMP:20260422T170345
CREATED:20220324T013737Z
LAST-MODIFIED:20220324T013737Z
UID:8781-1649352600-1649365200@gmda.org
SUMMARY:GMDA Hosted CE Program
DESCRIPTION:Please navigate to: https://mailchi.mp/wda/4jwb0w3z7q-417270?e=d3145f7dd7 for details regarding the event. See you there!
URL:https://gmda.org/event/gmda-hosted-ce-program/
LOCATION:Brookfield Conference Center\, 325 S Moorland Rd\, Broofield\, WI\, 53005
ORGANIZER;CN="Greater Milwaukee Dental Association":MAILTO:gmda@gmda.org
END:VEVENT
BEGIN:VEVENT
DTSTART;VALUE=DATE:20220309
DTEND;VALUE=DATE:20220310
DTSTAMP:20260422T170345
CREATED:20211014T023412Z
LAST-MODIFIED:20211014T023610Z
UID:8660-1646784000-1646870399@gmda.org
SUMMARY:Board Meeting
DESCRIPTION:
URL:https://gmda.org/event/board-meeting-2/
CATEGORIES:GMDA Board Meeting,GMDA Sponsored Event
END:VEVENT
BEGIN:VEVENT
DTSTART;VALUE=DATE:20220209
DTEND;VALUE=DATE:20220210
DTSTAMP:20260422T170345
CREATED:20211014T023339Z
LAST-MODIFIED:20211014T023339Z
UID:8658-1644364800-1644451199@gmda.org
SUMMARY:Board Meeting
DESCRIPTION:
URL:https://gmda.org/event/board-meeting/
CATEGORIES:GMDA Board Meeting,GMDA Sponsored Event
END:VEVENT
BEGIN:VEVENT
DTSTART;VALUE=DATE:20220112
DTEND;VALUE=DATE:20220113
DTSTAMP:20260422T170345
CREATED:20211014T023307Z
LAST-MODIFIED:20211014T023625Z
UID:8656-1641945600-1642031999@gmda.org
SUMMARY:Board Meeting
DESCRIPTION:
URL:https://gmda.org/event/gmda-board-meeting-5/
CATEGORIES:GMDA Board Meeting,GMDA Sponsored Event
END:VEVENT
BEGIN:VEVENT
DTSTART;VALUE=DATE:20211215
DTEND;VALUE=DATE:20211216
DTSTAMP:20260422T170345
CREATED:20211014T023209Z
LAST-MODIFIED:20211014T023653Z
UID:8654-1639526400-1639612799@gmda.org
SUMMARY:WDA Biz Talks
DESCRIPTION:
URL:https://gmda.org/event/wda-biz-talks/
END:VEVENT
BEGIN:VEVENT
DTSTART;VALUE=DATE:20211202
DTEND;VALUE=DATE:20211203
DTSTAMP:20260422T170345
CREATED:20211014T023150Z
LAST-MODIFIED:20211014T023150Z
UID:8652-1638403200-1638489599@gmda.org
SUMMARY:A Holiday Party at Westmoor Country Club
DESCRIPTION:
URL:https://gmda.org/event/a-holiday-party-at-westmoor-country-club/
END:VEVENT
BEGIN:VEVENT
DTSTART;VALUE=DATE:20211109
DTEND;VALUE=DATE:20211110
DTSTAMP:20260422T170345
CREATED:20211014T023126Z
LAST-MODIFIED:20211014T023126Z
UID:8650-1636416000-1636502399@gmda.org
SUMMARY:GMDA board meeting and precaucus at Braise
DESCRIPTION:
URL:https://gmda.org/event/gmda-board-meeting-and-precaucus-at-braise/
END:VEVENT
BEGIN:VEVENT
DTSTART;TZID=America/Chicago:20211021T180000
DTEND;TZID=America/Chicago:20211021T200000
DTSTAMP:20260422T170345
CREATED:20211005T023344Z
LAST-MODIFIED:20211007T004609Z
UID:8636-1634839200-1634846400@gmda.org
SUMMARY:Fall Social
DESCRIPTION:
URL:https://gmda.org/event/fall-social/
CATEGORIES:GMDA Sponsored Event
END:VEVENT
BEGIN:VEVENT
DTSTART;VALUE=DATE:20211011
DTEND;VALUE=DATE:20211016
DTSTAMP:20260422T170345
CREATED:20181204T010043Z
LAST-MODIFIED:20181204T010043Z
UID:7116-1633914000-1634259599@gmda.org
SUMMARY:ADA Annual Meeting 2021
DESCRIPTION:
URL:https://gmda.org/event/ada-annual-meeting-2021/
LOCATION:Las Vegas\, NV
END:VEVENT
BEGIN:VEVENT
DTSTART;VALUE=DATE:20210726
DTEND;VALUE=DATE:20210727
DTSTAMP:20260422T170345
CREATED:20210203T022338Z
LAST-MODIFIED:20210602T022955Z
UID:8484-1627257600-1627343999@gmda.org
SUMMARY:GMDA Golf Outing
DESCRIPTION:The GMDA Annual Golf Outing is back on July 26\, at the Legend at Bristlecone. Join us for a fun round of golf\, dinner\, and prizes.\n\n\n\n\nAbout this event\n\n\nYou and your guest(s) are invited to the GMDA Annual Golf Outing at the Legend at Bristlecone. We look forward to welcoming you back to our great event for fun\, dinner and a round of golf with friends and colleagues. \n11:00 – 12:15 — Driving Range and Lunch \n12:30 ———– Shotgun start (Format: Own Ball for Low gross\, or scramble for fun) \n5:00 – 6:00 —— Cocktails \n6:30 pm ——— Dinner \n\n  \n\n\n\n\n\n\n\n\n			\n			Button		\n		\n	\n\n\n\n\n			\n			Button
URL:https://gmda.org/event/gmda-golf-outing-2/
LOCATION:The Legend Clubs At Bristlecone Pines\, 1500 Arlene Dr\,\, Hartland\, WI\, 53029\, United States
CATEGORIES:GMDA Sponsored Event
ATTACH;FMTTYPE=image/jpeg:https://gmda.org/wp-content/uploads/2021/02/2021GOLF.jpg
ORGANIZER;CN="Greater Milwaukee Dental Association":MAILTO:gmda@gmda.org
END:VEVENT
BEGIN:VEVENT
DTSTART;VALUE=DATE:20210606
DTEND;VALUE=DATE:20210607
DTSTAMP:20260422T170345
CREATED:20210203T022249Z
LAST-MODIFIED:20210213T215333Z
UID:8479-1622937600-1623023999@gmda.org
SUMMARY:UPAF Ride for the Arts
DESCRIPTION:
URL:https://gmda.org/event/upaf-ride-for-the-arts-3/
LOCATION:Veterans Park\, 1010 N. Lincoln Memorial Drive\, Milwaukee\, WI\, 53202\, United States
END:VEVENT
BEGIN:VEVENT
DTSTART;TZID=America/Chicago:20210520T173000
DTEND;TZID=America/Chicago:20210520T213000
DTSTAMP:20260422T170345
CREATED:20210416T021731Z
LAST-MODIFIED:20210416T022006Z
UID:8546-1621531800-1621546200@gmda.org
SUMMARY:GMDA Annual Meeting 2021
DESCRIPTION:Click here to sign up for the event!		\n		\n	\n\n\n\n\n	\n	\n\n\n\n\n\n\n\n\nCelebration of the 2020-21 GMDA Presidency of Dr. Thomas Shaw and Installation of Dr. Eddie Morales as GMDA President.\n\n\n\n\n\nAbout this Event\n\n\nYou and your guest are invited to the Sky Lounge at American Family Field to celebrate Dr. Thomas Shaw and his presidency as GMDA President 2020-21 and the installation of Dr. Eddie Morales as GMDA President 2021-22. \nPlease join us for a fun night at our first in-person social meeting in over a year! \nSKYY LOUNGE @ AmFam Field \n\n5:30pm Cocktail Reception (2 Free Drinks)\n6:00pm 45-year Club Meeting\n6:15pm Past-Presidents Club Meeting\n7:00pm Dinner\n8:00pm Annual Meeting\n8:30pm Post-Dinner Social\n\n$40 per person – Please make dinner selection by purchasing the appropriate ticket below. \nPlease RSVP by Friday\, April 23\, 2021 \nPlease call Dr. Morales if you have dietary restrictions – (414)282-2642 \n**American Family Field requires use of masks while not eating and drinking** \n*Dress is business and business casual \n  \n\n\n\n\n\n\n\n\n\n\n	\n	\n\n\n	\n\n			\n			Click here to sign up for the event!
URL:https://gmda.org/event/gmda-annual-meeting-2021/
LOCATION:Skyy Lounge\, 1 Brewers Way\, Milwaukee\, WI\, 53214\, United States
CATEGORIES:GMDA Annual Meeting,GMDA Sponsored Event
ATTACH;FMTTYPE=image/jpeg:https://gmda.org/wp-content/uploads/2021/04/2021-GMDA-Annual-Meeting.jpg
ORGANIZER;CN="Greater Milwaukee Dental Association":MAILTO:gmda@gmda.org
END:VEVENT
BEGIN:VEVENT
DTSTART;VALUE=DATE:20210331
DTEND;VALUE=DATE:20210401
DTSTAMP:20260422T170345
CREATED:20210203T022132Z
LAST-MODIFIED:20210213T214036Z
UID:8480-1617148800-1617235199@gmda.org
SUMMARY:Virtual CE Event
DESCRIPTION:OSHA & CDC Updates for Dentistry during COVID-19
URL:https://gmda.org/event/virtual-ce-event/
CATEGORIES:GMDA Sponsored Event
ORGANIZER;CN="Greater Milwaukee Dental Association":MAILTO:gmda@gmda.org
END:VEVENT
BEGIN:VEVENT
DTSTART;VALUE=DATE:20210324
DTEND;VALUE=DATE:20210325
DTSTAMP:20260422T170345
CREATED:20210203T022056Z
LAST-MODIFIED:20210203T022056Z
UID:8478-1616544000-1616630399@gmda.org
SUMMARY:Legislative Day (Virtual Event)
DESCRIPTION:
URL:https://gmda.org/event/legislative-day-virtual-event/
CATEGORIES:GMDA Sponsored Event
ORGANIZER;CN="Greater Milwaukee Dental Association":MAILTO:gmda@gmda.org
END:VEVENT
BEGIN:VEVENT
DTSTART;VALUE=DATE:20210225
DTEND;VALUE=DATE:20210228
DTSTAMP:20260422T170345
CREATED:20181204T010941Z
LAST-MODIFIED:20181204T010941Z
UID:7129-1614211200-1614470399@gmda.org
SUMMARY:CDS Midwinter Meeting 2021
DESCRIPTION:
URL:https://gmda.org/event/cds-midwinter-meeting-2021/
LOCATION:McCormick Place West\, 2301 S Indiana Ave.\, Chicago\, IL\, 60616\, United States
END:VEVENT
BEGIN:VEVENT
DTSTART;VALUE=DATE:20201115
DTEND;VALUE=DATE:20201119
DTSTAMP:20260422T170345
CREATED:20181204T005837Z
LAST-MODIFIED:20181204T005946Z
UID:7112-1605398400-1605743999@gmda.org
SUMMARY:ADA Annual Meeting 2020
DESCRIPTION:
URL:https://gmda.org/event/ada-annual-meeting-2020/
LOCATION:Orlando\, FL
END:VEVENT
BEGIN:VEVENT
DTSTART;VALUE=DATE:20200727
DTEND;VALUE=DATE:20200729
DTSTAMP:20260422T170345
CREATED:20200208T170643Z
LAST-MODIFIED:20200304T030508Z
UID:8203-1595811600-1595897999@gmda.org
SUMMARY:GMDA Golf Outing
DESCRIPTION:
URL:https://gmda.org/event/gmda-golf-outing-2020/
CATEGORIES:GMDA Sponsored Event
ORGANIZER;CN="Greater Milwaukee Dental Association":MAILTO:gmda@gmda.org
END:VEVENT
BEGIN:VEVENT
DTSTART;VALUE=DATE:20200611
DTEND;VALUE=DATE:20200615
DTSTAMP:20260422T170345
CREATED:20190530T015812Z
LAST-MODIFIED:20200304T030616Z
UID:7721-1591837200-1592096399@gmda.org
SUMMARY:WDA Mission of Mercy
DESCRIPTION:
URL:https://gmda.org/event/wda-mission-of-mercy-2020/
END:VEVENT
BEGIN:VEVENT
DTSTART;VALUE=DATE:20200607
DTEND;VALUE=DATE:20200609
DTSTAMP:20260422T170345
CREATED:20190530T015732Z
LAST-MODIFIED:20190530T015732Z
UID:7720-1591491600-1591577999@gmda.org
SUMMARY:UPAF Ride for the Arts
DESCRIPTION:
URL:https://gmda.org/event/upaf-ride-for-the-arts-2020/
END:VEVENT
BEGIN:VEVENT
DTSTART;VALUE=DATE:20200514
DTEND;VALUE=DATE:20200516
DTSTAMP:20260422T170345
CREATED:20190515T015655Z
LAST-MODIFIED:20200208T170128Z
UID:7719-1589418000-1589504399@gmda.org
SUMMARY:GMDA Annual Dinner
DESCRIPTION:
URL:https://gmda.org/event/gmda-annual-dinner-2020/
END:VEVENT
BEGIN:VEVENT
DTSTART;TZID=America/Chicago:20200507T180000
DTEND;TZID=America/Chicago:20200507T203000
DTSTAMP:20260422T170345
CREATED:20200311T234256Z
LAST-MODIFIED:20200312T000255Z
UID:8267-1588874400-1588883400@gmda.org
SUMMARY:WDA BizTalks
DESCRIPTION:Good morning\, WDA Trustees\, Officers and Guests: \nAs you’ll recall\, at the February meeting\, the Board authorized a pilot of “WDA BizTalks\,” a series of fun\, short CE programs focused on business\, management and practice transitions topics. We’ve had great response to this idea from potential program partners\, and we’re excited to announce our first WDA BizTalks event\, to be held in partnership with SVA Dental Services\, on Thursday\, May 7 at Good City Brewing in Milwaukee. \nAttached please find a flyer for the May 7 event with details about the program and social component (beer tasting!) We are promoting this via email\, social media and a postcard mailing to member and non-member dentists in Regions 3 and 4. We are also reaching out to appropriate component leadership\, and SVA will spread the word among its clients and contacts. We’re hoping for a nice turnout. \nYou can help us in two ways: \n1.)    Please consider attending the program (especially if you’re in Region 3 or 4 – it’s not too far!) Your presence will say a lot about the support of WDA leadership and its commitment to providing this kind of education and information to members. You can register here. \n2.)    Please help us spread the word to dentists who may be interested in attending. Please share the attached flyer via email\, and you can also share our Facebook event to your pages and dental-related groups. \nThe Membership Development Committee and staff appreciate your support and help in making this venture successful. As I said\, we’ve already had strong interest from others – we are in the process of finalizing events with Huntington Bank in Madison and Neenah and with CLA in Wausau later this year. Stay tuned for more information\, and we hope to see many of you at Good City Brewing on May 7! \nBrenna
URL:https://gmda.org/event/wda-biztalks/
LOCATION:Good City Brewing (East Side)\, 2108 N. Farwell Ave.\, Milwaukee\, WI\, 53202\, United States
END:VEVENT
BEGIN:VEVENT
DTSTART;TZID=America/Chicago:20200417T100000
DTEND;TZID=America/Chicago:20200417T150000
DTSTAMP:20260422T170345
CREATED:20200311T030729Z
LAST-MODIFIED:20200311T031206Z
UID:8239-1587117600-1587135600@gmda.org
SUMMARY:5th Annual VISN 12 VA Dental Symposium
DESCRIPTION:The 5th Annual VISN 12 VA Dental Symposium will take place on Friday\, April 17\, 2020 in downtown Milwaukee at the Wisconsin Club. \nThis year’s theme is “Smile Design to Development: Principles and Pearls for Clinical Success.”  Attendees must register in advance and spots are limited. Walk-in registrations will not be allowed. Registration is limited\, so please do not wait to register if you’d like to attend. Lunch\, refreshments and valet parking are included. Attendance at the program provides 4 complementary ADA CERP continuing education credits.  Please see the attached flyer for details. \nThis program is open and limited to only general dentists and dental specialists. \nTo register\, contact Dr. Ankur Patel\, Chief of the Milwaukee VA Dental Service at Ankur.patel5@va.gov.
URL:https://gmda.org/event/5th-annual-visn-12-va-dental-symposium/
LOCATION:The Wisconsin Club\, 900 W Wisconsin Ave\, \, WI\, Milwaukee\, Wisconsin\, 53233
END:VEVENT
BEGIN:VEVENT
DTSTART;VALUE=DATE:20200402
DTEND;VALUE=DATE:20200404
DTSTAMP:20260422T170345
CREATED:20190530T014129Z
LAST-MODIFIED:20200304T030929Z
UID:7712-1585789200-1585875599@gmda.org
SUMMARY:GMDA Spring Social @ Black Sheep
DESCRIPTION:Please use this link to sign up! https://www.surveymonkey.com/r/35SSJ8N
URL:https://gmda.org/event/gmda-spring-social-black-sheep-2020/
END:VEVENT
BEGIN:VEVENT
DTSTART;VALUE=DATE:20200320
DTEND;VALUE=DATE:20200322
DTSTAMP:20260422T170345
CREATED:20190530T014005Z
LAST-MODIFIED:20200303T014408Z
UID:7710-1584666000-1584752399@gmda.org
SUMMARY:GMDA All-Day CE Event
DESCRIPTION:  \nRegister at: https://www.eventbrite.com/e/surgically-facilitated-orthodontic-therapy-sfot-tickets-89138135563
URL:https://gmda.org/event/gmda-all-day-ce-event-2020/
CATEGORIES:GMDA Sponsored Event
END:VEVENT
BEGIN:VEVENT
DTSTART;VALUE=DATE:20200221
DTEND;VALUE=DATE:20200223
DTSTAMP:20260422T170345
CREATED:20190530T013957Z
LAST-MODIFIED:20190530T014014Z
UID:7713-1582243200-1582415999@gmda.org
SUMMARY:CDS Midwinter Meeting
DESCRIPTION:
URL:https://gmda.org/event/cds-midwinter-meeting-2020-2/
END:VEVENT
END:VCALENDAR